BEGIN:VCALENDAR
VERSION:2.0
PRODID:-//Iowa Artists - ECPv6.13.2.1//NONSGML v1.0//EN
CALSCALE:GREGORIAN
METHOD:PUBLISH
X-WR-CALNAME:Iowa Artists
X-ORIGINAL-URL:https://iowaartists.org
X-WR-CALDESC:Events for Iowa Artists
REFRESH-INTERVAL;VALUE=DURATION:PT1H
X-Robots-Tag:noindex
X-PUBLISHED-TTL:PT1H
BEGIN:VTIMEZONE
TZID:America/Chicago
BEGIN:DAYLIGHT
TZOFFSETFROM:-0600
TZOFFSETTO:-0500
TZNAME:CDT
DTSTART:20260308T080000
END:DAYLIGHT
BEGIN:STANDARD
TZOFFSETFROM:-0500
TZOFFSETTO:-0600
TZNAME:CST
DTSTART:20261101T070000
END:STANDARD
END:VTIMEZONE
BEGIN:VEVENT
DTSTART;TZID=America/Chicago:20260302T000000
DTEND;TZID=America/Chicago:20260529T235959
DTSTAMP:20260421T062201
CREATED:20260301T045903Z
LAST-MODIFIED:20260301T051001Z
UID:1072-1772409600-1780099199@iowaartists.org
SUMMARY:Threading the Needle: Fiber Arts in Iowa
DESCRIPTION:I’m excited to announce that the Cedar Rapids Museum of Art’s next open call\, juried exhibition will be this fall and will focus on fiber arts! Please see the attached call for entries for all of the details and requirements. Submissions open 02Mar2026! All entries are due by May 29th.\n\nPlease feel free to share with anyone you think might be interested!\n\nClick here for Fiber Call for Entries
URL:https://iowaartists.org/event/threading-the-needle-fiber-arts-in-iowa/
LOCATION:Cedar Rapids Museum of Art\, 410 Third Ave.\, SE\, Cedar Rapids\, 52401\, United States
END:VEVENT
END:VCALENDAR